BEGIN:VCALENDAR
PRODID:-//wein-und-markt.de// 
VERSION:2.0
METHOD:REQUEST
BEGIN:VEVENT
ORGANIZER;CN=WEIN+MARKT:MAILTO:info@wein-und-markt.de
DTSTART:20240609
DTEND:20240609T220000Z
LOCATION;LANGUAGE=de;ENCODING=QUOTED-PRINTABLE:TAP1, Kopenhagen
TRANSP:OPAQUE
SEQUENCE:0
UID:c7030ee830644e28f1958e8a07a053e2
DTSTAMP:20260419T140700Z
SUMMARY;LANGUAGE=de;ENCODING=QUOTED-PRINTABLE:Raw Wine
PRIORITY:5
CLASS:PUBLIC
URL:https://www.wein-und-markt.de/termine?month=&year=
STATUS:CONFIRMED
END:VEVENT
END:VCALENDAR
