BEGIN:VCALENDAR
PRODID:-//wein-und-markt.de// 
VERSION:2.0
METHOD:REQUEST
BEGIN:VEVENT
ORGANIZER;CN=WEIN+MARKT:MAILTO:info@wein-und-markt.de
DTSTART:20240603T083000Z
DTEND:20240603T160000Z
LOCATION;LANGUAGE=de;ENCODING=QUOTED-PRINTABLE:Frankfurt
TRANSP:OPAQUE
SEQUENCE:0
UID:ecfa014406e244a3ce7722a2a5694727
DTSTAMP:20260419T140800Z
DESCRIPTION;LANGUAGE=de;ENCODING=QUOTED-PRINTABLE:Der wein.campus von ff.k kommt am 3. Juni nach Frankfurt! Ein Tag, vier Masterclasses und 100 Weine – der wein.campus bringt Tasting&Networking im coolen Maindock auf den Punkt.
Die vier hochkarätigen Masterclasses von Pays d’Oc IGP Weine, Weine aus Georgien, Ribera del Duero, Weine der Loire kommentieren die Masters of Wine Konstantin Baum MW, Caro Maurer MW und Cees van Casteren MW sowie Christoph Raffelt von Originalverkorkt. Außerdem auf dem Marktplatz dabei Alkoholfreies von World of Nix.

SUMMARY;LANGUAGE=de;ENCODING=QUOTED-PRINTABLE:wein_campus von ff_k in Frankfurt
PRIORITY:5
CLASS:PUBLIC
URL:https://www.wein-und-markt.de/termine?month=&year=
STATUS:CONFIRMED
END:VEVENT
END:VCALENDAR
