BEGIN:VCALENDAR
PRODID:-//wein-und-markt.de// 
VERSION:2.0
METHOD:REQUEST
BEGIN:VEVENT
ORGANIZER;CN=WEIN+MARKT:MAILTO:info@wein-und-markt.de
DTSTART:20240617T100000Z
DTEND:20240617T153000Z
LOCATION;LANGUAGE=de;ENCODING=QUOTED-PRINTABLE:Café Paris, Rathausstraße 4  , 20095 Hamburg
TRANSP:OPAQUE
SEQUENCE:0
UID:89204373b12a9a662fc07c4cc4becdef
DTSTAMP:20260419T140800Z
DESCRIPTION;LANGUAGE=de;ENCODING=QUOTED-PRINTABLE:3 IN 1 – FACHVERKOSTUNG, SOURCING UND LECKERES ESSEN IN EINEM. 
Treffen Sie Winzer aus dem Centre-Loire bei einem exklusiven und zugleich lockeren Mittag- oder Abendessen und entdecken Sie aufregende Weine – das Ganze moderiert von Konstantin Baum. Seien Sie dabei und schlagen Sie drei Fliegen mit einer Klappe:
-ungewöhnliches, kurzes und überraschend vielseitiges Tasting
-spannender Austausch mit potenziellen Lieferanten
-hochwertiges Mittag- oder Abendessen

Bitte beachten: Es handelt sich um ein exklusives Angebot nur für Importeure. Wir verfügen über wenige Plätze.
INFOS & ANMELDUNG über den Link hier rechts.
Bitte beachten: Teilnahme ist nur nach Anmeldung und Bestätigung möglich, da die Plätze begrenzt sind.

SUMMARY;LANGUAGE=de;ENCODING=QUOTED-PRINTABLE:CENTRE-LOIRE LUNCH & DINNER 
PRIORITY:5
CLASS:PUBLIC
URL:https://www.wein-und-markt.de/termine?month=&year=
STATUS:CONFIRMED
END:VEVENT
END:VCALENDAR
