BEGIN:VCALENDAR
PRODID:-//wein-und-markt.de// 
VERSION:2.0
METHOD:REQUEST
BEGIN:VEVENT
ORGANIZER;CN=WEIN+MARKT:MAILTO:info@wein-und-markt.de
DTSTART:20240603T110000Z
DTEND:20240603T173000Z
LOCATION;LANGUAGE=de;ENCODING=QUOTED-PRINTABLE:Alter Wandrahm 19- 20, Hamburg
TRANSP:OPAQUE
SEQUENCE:0
UID:ed2b0bb74b211b5b832f956d53c40e1a
DTSTAMP:20260419T140600Z
DESCRIPTION;LANGUAGE=de;ENCODING=QUOTED-PRINTABLE:Lissabon, Pasteís de Nata, Vinhos Verdes und das Douro Tal – Portugal hat sich einen festen Platz bei Reisenden und Genussmenschen erobert. So ist es auch im Bereich Wein, das Weinland gehört zuverlässig zu den Top 10 Importländern in Deutschland und immer mehr Weinfachleute und Weinfreund:innen erkennen das Potenzial der portugiesischen Weinszene. Am Montag, 3. Juni 2024, bietet sich in Hamburg endlich wieder die Möglichkeit, an einem Nachmittag in die Welt der Unterschiede einzutauchen und mehr über die eigenständigen Weine zu erfahren. Entdecken Sie Portugals aufstrebende Weinszene. Immer mehr Weinfachleute und Weinfreund:innen erkennen das Potenzial der portugiesischen Weinszene für herausragende Weine. Authentizität und ein unschlagbares Preis-Leistungs-Verhältnis stehen dabei im Vordergrund. Wollen Sie sich selbst überzeugen? Dann besuchen Sie unsere Verkostung in Hamburg und erleben Sie 22 Weinerzeuger:innen und ihre Weine hautnah. WINES OF PORTUGAL in HAMBURG Montag, 3. Juni 2024 13.00 – 19.30 Uhr Ehemaliges Hauptzollamt | Alter Wandrahm 19-20 | 20457 Hamburg 13.00 Uhr Weintrends aus Portugal Mit Journalist und Portugal-Experte David Schwarzwälder Bringen Sie sich auf den aktuellen Stand zu Trends und Entdeckungen in Portugal mit ausgewählten Weinen vom Vinhos Verdes bis ins Alentejo. 14.00 – 19.30 Uhr Tischpräsentation* mit 22 Weinerzeuger:innen mit 177 Weinen aus 10 Weinregionen Portugals *ab 17:00 Uhr auch für private Weinfreund:innen. 
SUMMARY;LANGUAGE=de;ENCODING=QUOTED-PRINTABLE:WINES OF PORTUGAL in HAMBURG
PRIORITY:5
CLASS:PUBLIC
URL:https://www.wein-und-markt.de/termine?month=&year=
STATUS:CONFIRMED
END:VEVENT
END:VCALENDAR
