BEGIN:VCALENDAR
PRODID:-//wein-und-markt.de// 
VERSION:2.0
METHOD:REQUEST
BEGIN:VEVENT
ORGANIZER;CN=WEIN+MARKT:MAILTO:info@wein-und-markt.de
DTSTART:20240623T100000Z
DTEND:20240625T150000Z
LOCATION;LANGUAGE=de;ENCODING=QUOTED-PRINTABLE:Würzburg
TRANSP:OPAQUE
SEQUENCE:0
UID:54653921899bbd5d7265a859920c6594
DTSTAMP:20260419T140700Z
DESCRIPTION;LANGUAGE=de;ENCODING=QUOTED-PRINTABLE:Die Legendäre Rare & Fine Wines Tour startet im Juni für Gastronomen! Die heißesten Trends in der Weinwelt sind zurzeit ganz sicher Sekte. Großen Frankensekten widmen wir fast einen ganzen Tag, nicht zu kurz kommt auch das Thema Low Intervention, Weine ohne Additive, ohne Filtration und ohne Reinzuchthefe. Ein paar Fachvorträge zwischen den ausgedehnten Verkostungen und Winzerbesuchen bieten Futter für den Kopf und für die Seele dann fränkische Bratwürste, die gibt es auch. Versprochen. Die Frankenwinzer laden exklusiv Sommelier(e)s und Blogger, Influencer und Journalisten zur Juni Edition der Rare & Fine Wines Tour 2024 in die Weinberge am Main ein. Wir starten am Sonntag, 23. Juni gegen 12 Uhr am Würzburger Hauptbahnhof, übernachten im wunderschönen Frickenhausen im schönen Hotel Meinzinger und beenden die Rundreise am Dienstag, 25. Juni gegen 17 Uhr wieder am Würzburger Hauptbahnhof.
SUMMARY;LANGUAGE=de;ENCODING=QUOTED-PRINTABLE:Weinreise - Franken - Rare & Fine Wines Tour Juni 2024
PRIORITY:5
CLASS:PUBLIC
URL:https://www.wein-und-markt.de/termine?month=&year=
STATUS:CONFIRMED
END:VEVENT
END:VCALENDAR
