BEGIN:VCALENDAR
PRODID:-//wein-und-markt.de// 
VERSION:2.0
METHOD:REQUEST
BEGIN:VEVENT
ORGANIZER;CN=WEIN+MARKT:MAILTO:info@wein-und-markt.de
DTSTART:20240616T090000Z
DTEND:20240616T160000Z
LOCATION;LANGUAGE=de;ENCODING=QUOTED-PRINTABLE:Rißbacher Str. 13, 56841 Traben-Trarbach - Vinothek Die Mosel
TRANSP:OPAQUE
SEQUENCE:0
UID:b93b12abeb6769e3d5529e763dcb02e1
DTSTAMP:20260419T140800Z
DESCRIPTION;LANGUAGE=de;ENCODING=QUOTED-PRINTABLE:,  

SUMMARY;LANGUAGE=de;ENCODING=QUOTED-PRINTABLE:„Nouvelle Moselle“
PRIORITY:5
CLASS:PUBLIC
URL:https://www.wein-und-markt.de/termine?month=&year=
STATUS:CONFIRMED
END:VEVENT
END:VCALENDAR
