BEGIN:VCALENDAR
PRODID:-//wein-und-markt.de// 
VERSION:2.0
METHOD:REQUEST
BEGIN:VEVENT
ORGANIZER;CN=WEIN+MARKT:MAILTO:info@wein-und-markt.de
DTSTART:20260322T110000Z
DTEND:20260323T160000Z
LOCATION;LANGUAGE=de;ENCODING=QUOTED-PRINTABLE:Die Graifen, Wolfer Weg 11 , 56841  Traben-Trarbach
TRANSP:OPAQUE
SEQUENCE:0
UID:849a1743b4d5a46c88dad72adb17d522
DTSTAMP:20260419T144600Z
DESCRIPTION;LANGUAGE=de;ENCODING=QUOTED-PRINTABLE:Signature-Verkostung der Initiative Vision Mosel:
Rund 60 hochwertige PIWI-Weine von 20 Weingütern aus dem Moselgebiet (Deutschland & Luxemburg).
Persönlicher Austausch mit den Winzerinnen und Winzern, nachhaltige Rebsorten, Innovation & Genuss. Fachbesucher (Gastronomie, Handel, Journalismus, Partner) nehmen kostenfrei teil – Anmeldung erforderlich.
Andere Gäste: Tickets online für 20 €.
Hausgemachte Tapas im Restaurant „Die Graifen“ separat erhältlich.
SUMMARY;LANGUAGE=de;ENCODING=QUOTED-PRINTABLE:3_ Vision Mosel PIWI-Verkostung – #piwilicious
PRIORITY:5
CLASS:PUBLIC
URL:https://www.wein-und-markt.de/termine?month=&year=
STATUS:CONFIRMED
END:VEVENT
END:VCALENDAR
