BEGIN:VCALENDAR
PRODID:-//wein-und-markt.de// 
VERSION:2.0
METHOD:REQUEST
BEGIN:VEVENT
ORGANIZER;CN=WEIN+MARKT:MAILTO:info@wein-und-markt.de
DTSTART:20260316T120000Z
DTEND:20260316T130000Z
LOCATION;LANGUAGE=de;ENCODING=QUOTED-PRINTABLE:ProWein Halle 4 - Stand F50
TRANSP:OPAQUE
SEQUENCE:0
UID:4f29f800131e388c462b8052344abcdd
DTSTAMP:20260420T102500Z
DESCRIPTION;LANGUAGE=de;ENCODING=QUOTED-PRINTABLE:Gönnen Sie sich eine kurze, genussvolle und effiziente Auszeit in Ihrer Mittagspause auf der ProWein…
Bei unserem kleinen, feinen Apéritif erwarten Sie feine Köstlichkeiten, echte und authentische Gespräche und eine herzlich lockere Atmosphäre – die pure Lebensfreude aus Okzitanien.
Die anwesenden Winzer der Sonnenweine sind persönlich vor Ort und erwarten Sie: offen, neugierig und entspannt. 
AM OKZITANIEN-STAND KÖNNEN SIE IHRE MITTAGSPAUSE AM BESTEN KOMBINIEREN: SPANNENDE ENTDECKUNGEN, EFFIZIENTE GESPRÄCHE UND LECKERES ESSEN – DAS GANZE OHNE WARTESCHLANGE UND UNKOMPLIZIERT. *
Infos & Anmeldung & Menü unter dem Link rechts. 

SUMMARY;LANGUAGE=de;ENCODING=QUOTED-PRINTABLE:Apéritif der Sonnenweine aus Okzitanien
PRIORITY:5
CLASS:PUBLIC
URL:https://www.wein-und-markt.de/termine?month=&year=
STATUS:CONFIRMED
END:VEVENT
END:VCALENDAR
