BEGIN:VCALENDAR
PRODID:-//wein-und-markt.de// 
VERSION:2.0
METHOD:REQUEST
BEGIN:VEVENT
ORGANIZER;CN=WEIN+MARKT:MAILTO:info@wein-und-markt.de
DTSTART:20260418T100000Z
DTEND:20260418T170000Z
LOCATION;LANGUAGE=de;ENCODING=QUOTED-PRINTABLE:Gesellschaftshaus Palmengarten, Palmengartenstraße, 60325 Frankfurt am Main
TRANSP:OPAQUE
SEQUENCE:0
UID:39d76091f622a2a7125170d2755e7651
DTSTAMP:20260419T142600Z
DESCRIPTION;LANGUAGE=de;ENCODING=QUOTED-PRINTABLE:Weltleitmesse für Apfelwein, Cidre, Cider & Co. Im exklusiven Rahmen des Gesellschaftshaus Palmengarten verkosten Profis und Genießer die besten Produkte der Cider World.
SUMMARY;LANGUAGE=de;ENCODING=QUOTED-PRINTABLE:18_ Internationale Frankfurter Apfelweinmesse
PRIORITY:5
CLASS:PUBLIC
URL:https://www.wein-und-markt.de/termine?month=&year=
STATUS:CONFIRMED
END:VEVENT
END:VCALENDAR
