BEGIN:VCALENDAR
PRODID:-//wein-und-markt.de// 
VERSION:2.0
METHOD:REQUEST
BEGIN:VEVENT
ORGANIZER;CN=WEIN+MARKT:MAILTO:info@wein-und-markt.de
DTSTART:20260420T100000Z
DTEND:20260420T150000Z
LOCATION;LANGUAGE=de;ENCODING=QUOTED-PRINTABLE:Kleyerstraße 15, 60326 Frankfurt/M
TRANSP:OPAQUE
SEQUENCE:0
UID:b0766d9ea59570fabe559220c9224629
DTSTAMP:20260422T105400Z
DESCRIPTION;LANGUAGE=de;ENCODING=QUOTED-PRINTABLE:GOOSE Eventspace - Eventlocation Frankfurt

SUMMARY;LANGUAGE=de;ENCODING=QUOTED-PRINTABLE:Smart-Wines on the Road
PRIORITY:5
CLASS:PUBLIC
URL:https://www.wein-und-markt.de/termine?month=&year=
STATUS:CONFIRMED
END:VEVENT
END:VCALENDAR
