BEGIN:VCALENDAR
PRODID:-//wein-und-markt.de// 
VERSION:2.0
METHOD:REQUEST
BEGIN:VEVENT
ORGANIZER;CN=WEIN+MARKT:MAILTO:info@wein-und-markt.de
DTSTART:20260421T100000Z
DTEND:20260421T150000Z
LOCATION;LANGUAGE=de;ENCODING=QUOTED-PRINTABLE:am Handelshafen 15 - Lido Hafen, 40221 Düsseldorf 
TRANSP:OPAQUE
SEQUENCE:0
UID:5345ecff56ac775c2d6c6bcde8e81994
DTSTAMP:20260422T112900Z
DESCRIPTION;LANGUAGE=de;ENCODING=QUOTED-PRINTABLE:Lido Hafen
Am Handelshafen 15 | 40221 Düsseldorf | 
SUMMARY;LANGUAGE=de;ENCODING=QUOTED-PRINTABLE:Smart-Wines on the Road
PRIORITY:5
CLASS:PUBLIC
URL:https://www.wein-und-markt.de/termine?month=&year=
STATUS:CONFIRMED
END:VEVENT
END:VCALENDAR
